BEGIN:VCALENDAR
VERSION:2.0
PRODID:-//hacksw/handcal//NONSGML v1.0//EN
CALSCALE:GREGORIAN
BEGIN:VEVENT
LOCATION:Berlin\, Germany
DESCRIPTION:Event hosted by the Association of German Banks. Should you have any questions or require further information\, please contact us at service@iadi.org.
DTSTART;VALUE=DATE:20261026
DTEND;VALUE=DATE:20261030
SUMMARY:Placeholder: IADI 25th Annual General Meeting and Conference
URL;VALUE=URI:https://www.iadi.org/events/iadi-25th-annual-general-meeting-and-conference/
DTSTAMP:20260424T014601Z
UID:69eacb59564c9
END:VEVENT
END:VCALENDAR