BEGIN:VCALENDAR
VERSION:2.0
PRODID:-//hacksw/handcal//NONSGML v1.0//EN
CALSCALE:GREGORIAN
BEGIN:VEVENT
LOCATION:Sardinia\, Italy
DESCRIPTION:Event hosted by Italy&#8217\;s Interbank Deposit Protection Fund. Should you have any questions or require further information\, please contact us at service@iadi.org.
DTSTART;VALUE=DATE:20260623
DTEND;VALUE=DATE:20260625
SUMMARY:Placeholder: IADI 85th Executive Council Meeting
URL;VALUE=URI:https://www.iadi.org/events/iadi-85th-executive-council-meeting/
DTSTAMP:20260424T014735Z
UID:69eacbb7e1172
END:VEVENT
END:VCALENDAR