BEGIN:VCALENDAR
VERSION:2.0
PRODID:-//hacksw/handcal//NONSGML v1.0//EN
CALSCALE:GREGORIAN
BEGIN:VEVENT
LOCATION:Warsaw\, Poland
DESCRIPTION:The event will take place at Warsaw Presidential Hotel\, Poland\, from 25-26 September 2025. The conference will focus on strengthening financial stability and crisis preparedness in an evolving regulatory landscape. Marking the 30th Anniversary of the Bank Guarantee Fund of Poland\, this event also offers a unique opportunity to reflect on three decades of progress&hellip\;
DTSTART;VALUE=DATE:20250925
DTEND;VALUE=DATE:20250926
SUMMARY:Placeholder: Europe Regional Committee Conference
URL;VALUE=URI:https://www.iadi.org/events/europe-regional-committee-conference/
DTSTAMP:20260422T164737Z
UID:69e8fba96b0ec
END:VEVENT
END:VCALENDAR